View In:
ArcGIS JavaScript
ArcGIS Online Map Viewer
ArcGIS Earth
Service Description: Basemaps/DEM_Enhanced_10meter_Oregon
Name: Basemaps/DEM_Enhanced_10meter_Oregon
Description:
Single Fused Map Cache: false
Extent:
XMin: 181231.65584200306
YMin: 41523.90026367339
XMax: 2358200.1597703025
YMax: 1832993.7165294732
Spatial Reference: 2992
(2992)
Initial Extent:
XMin: 181231.65584200306
YMin: 41523.90026367339
XMax: 2358200.1597703025
YMax: 1832993.7165294732
Spatial Reference: 2992
(2992)
Full Extent:
XMin: 181231.65584200306
YMin: 41523.90026367339
XMax: 2358200.1597703025
YMax: 1832993.7165294732
Spatial Reference: 2992
(2992)
Pixel Size X: 32.80839894999999
Pixel Size Y: 32.80839895
Band Count: 1
Pixel Type: F32
RasterFunction Infos: {"rasterFunctionInfos": [
{
"help": "",
"name": "None",
"description": "Make a Raster or Raster Dataset into a Function Raster Dataset."
},
{
"help": "",
"name": "Hillshade",
"description": "A raster function template."
},
{
"help": "",
"name": "MultidirectionalHillshade",
"description": "Buildt from 1 m lidar dem, this displays hillshade using the multidirectional function"
},
{
"help": "",
"name": "Slope",
"description": "A raster function template."
},
{
"help": "",
"name": "Aspect",
"description": "A raster function template."
}
]}
Mensuration Capabilities: Basic
Inspection Capabilities:
Has Histograms: true
Has Colormap: false
Has Multi Dimensions : false
Rendering Rule:
Min Scale: 0
Max Scale: 0
Resampling: false
Copyright Text:
Service Data Type: esriImageServiceDataTypeGeneric
Min Values: -70.537521362304688
Max Values: 11238.9921875
Mean Values: 3447.9696899249711
Standard Deviation Values: 1806.9325759521284
Object ID Field:
Fields:
None
Default Mosaic Method: Center
Allowed Mosaic Methods:
SortField:
SortValue: N/A
Mosaic Operator: First
Default Compression Quality: 75
Default Resampling Method: Bilinear
Max Record Count: null
Max Image Height: 4100
Max Image Width: 15000
Max Download Image Count: null
Max Mosaic Image Count: null
Allow Raster Function: true
Allow Copy: true
Allow Analysis: true
Allow Compute TiePoints: false
Supports Statistics: false
Supports Advanced Queries: false
Use StandardizedQueries: false
Raster Type Infos:
Name: Raster Dataset
Description: Supports all ArcGIS Raster Datasets
Help:
Has Raster Attribute Table: false
Edit Fields Info: N/A
Ownership Based AccessControl For Rasters: N/A
Child Resources:
Info
Histograms
Statistics
Key Properties
Legend
Raster Function Infos
Supported Operations:
Export Image
Identify
Measure
Compute Histograms
Compute Statistics Histograms
Get Samples
Compute Class Statistics
Query Boundary
Compute Pixel Location
Compute Angles
Validate
Project