View In:
ArcGIS JavaScript
ArcGIS Online Map Viewer
ArcGIS Earth
Service Description: Basemaps/HLHL60Screen2019
Name: Basemaps/HLHL60Screen2019
Description:
Single Fused Map Cache: false
Extent:
XMin: 221909.91633857787
YMin: 99089.34284776449
XMax: 1058252.9163385779
YMax: 1661921.3428477645
Spatial Reference: 2992
(2992)
Initial Extent:
XMin: 221909.91633857787
YMin: 99089.34284776449
XMax: 1058252.9163385779
YMax: 1661921.3428477645
Spatial Reference: 2992
(2992)
Full Extent:
XMin: 221909.91633857787
YMin: 99089.34284776449
XMax: 1058252.9163385779
YMax: 1661921.3428477645
Spatial Reference: 2992
(2992)
Pixel Size X: 9.0
Pixel Size Y: 9.0
Band Count: 1
Pixel Type: U16
RasterFunction Infos: {"rasterFunctionInfos": [{
"help": "",
"name": "None",
"description": ""
}]}
Mensuration Capabilities: Basic
Inspection Capabilities:
Has Histograms: true
Has Colormap: false
Has Multi Dimensions : false
Rendering Rule:
Min Scale: 0
Max Scale: 0
Copyright Text:
Service Data Type: esriImageServiceDataTypeGeneric
Min Values: 0
Max Values: 8000
Mean Values: 1220.2407850253269
Standard Deviation Values: 2656.3681406204605
Object ID Field:
Fields:
None
Default Mosaic Method: Center
Allowed Mosaic Methods:
SortField:
SortValue: N/A
Mosaic Operator: First
Default Compression Quality: 75
Default Resampling Method: Bilinear
Max Record Count: null
Max Image Height: 4100
Max Image Width: 15000
Max Download Image Count: null
Max Mosaic Image Count: null
Allow Raster Function: true
Allow Copy: true
Allow Analysis: true
Allow Compute TiePoints: false
Supports Statistics: false
Supports Advanced Queries: false
Use StandardizedQueries: false
Raster Type Infos:
Name: Raster Dataset
Description: Supports all ArcGIS Raster Datasets
Help:
Has Raster Attribute Table: true
Edit Fields Info: N/A
Ownership Based AccessControl For Rasters: N/A
Child Resources:
Info
Raster Attribute Table
Histograms
Statistics
Key Properties
Legend
Raster Function Infos
Supported Operations:
Export Image
Identify
Measure
Compute Histograms
Compute Statistics Histograms
Get Samples
Compute Class Statistics
Query Boundary
Compute Pixel Location
Compute Angles
Validate
Project