View In:
ArcGIS JavaScript
ArcGIS Online Map Viewer
ArcGIS Earth
ArcGIS Pro
Service Description: Bare Earth Hillshade with PLSS, ODF Roads and Streams, and Ownership Information
Map Name: Hillshade
Legend
All Layers and Tables
Dynamic Legend
Dynamic All Layers
Layers:
Description: Bare Earth Hillshade with PLSS, ODF Roads and Streams, and Ownership Information
Service Item Id: 7883c914043b4e869a5314ef49ed0b56
Copyright Text: ODF
Spatial Reference:
102100
(3857)
LatestVCSWkid(0)
Single Fused Map Cache: true
Tile Info:
- Height: 256
- Width: 256
- DPI: 96
-
Levels of Detail: 24
-
Level ID: 1
[ Start Tile, End Tile ]
- Resolution: 78271.5169639999
- Scale: 2.95828763795777E8
-
Level ID: 2
[ Start Tile, End Tile ]
- Resolution: 39135.7584820001
- Scale: 1.47914381897889E8
-
Level ID: 3
[ Start Tile, End Tile ]
- Resolution: 19567.8792409999
- Scale: 7.3957190948944E7
-
Level ID: 4
[ Start Tile, End Tile ]
- Resolution: 9783.93962049996
- Scale: 3.6978595474472E7
-
Level ID: 5
[ Start Tile, End Tile ]
- Resolution: 4891.96981024998
- Scale: 1.8489297737236E7
- Format: Mixed
- Compression Quality: 75.0
- Origin: X: -2.0037508342787E7
Y: 2.0037508342787E7
- Spatial Reference: 102100
(3857)
LatestVCSWkid(0)
Storage Info:
- Storage Format: esriMapCacheStorageModeCompactV2
- Packet Size: 128
Initial Extent:
XMin: -1.4034946189755738E7
YMin: 5071700.502327994
XMax: -1.2813305888395652E7
YMax: 5963856.0579140885
Spatial Reference: 102100
(0)
LatestVCSWkid(0)
Full Extent:
XMin: -1.420333063984007E7
YMin: 4937095.761869644
XMax: -1.2584077401333593E7
YMax: 6232498.352674826
Spatial Reference: 102100
(0)
LatestVCSWkid(0)
Units: esriMeters
Supported Image Format Types: PNG32,PNG24,PNG,JPG,DIB,TIFF,EMF,PS,PDF,GIF,SVG,SVGZ,BMP
Document Info:
Title: ServicePublishing.aprx
Author:
Comments: Bare Earth Hillshade with PLSS, ODF Roads and Streams, and Ownership Information
Subject: Bare Earth Hillshade with PLSS, ODF Roads and Streams, and Ownership Information
Category:
Keywords: ODF,Oregon,Oregon Department of Forestry
AntialiasingMode: Fast
TextAntialiasingMode: Force
Supports Dynamic Layers: true
MaxRecordCount: 2000
MaxImageHeight: 4096
MaxImageWidth: 4096
Supported Query Formats: JSON, geoJSON, PBF
Supports Query Data Elements: true
Min Scale: 9244648.868618
Max Scale: 4513.988705
Supports Datum Transformation: true
Child Resources:
Info
Dynamic Layer
Supported Operations:
Export Map
Identify
QueryLegends
QueryDomains
Find
EstimateExportTilesSize
ExportTiles
Return Updates