View In:
ArcGIS JavaScript
ArcGIS Online Map Viewer
ArcGIS Earth
ArcGIS Pro
Service Description: Tiled Oregon hillshade to be used as basemap in mobile applications. This is for visual topography. The basemap includes the Enhanced 10 meter Hillshade under the 1 meter hillshade from Oregon lidar acquisitons.
Map Name: OregonHillshade
Legend
All Layers and Tables
Dynamic Legend
Dynamic All Layers
Layers:
Description: Tiled Oregon hillshade to be used as basemap in mobile applications. This is for visual topography. The basemap includes the Enhanced 10 meter Hillshade under the 1 meter hillshade from Oregon lidar acquisitons.
Service Item Id: 9a9c9a9a39704b0a9d053d08c8d09f79
Copyright Text: ODF
Spatial Reference:
102100
(3857)
LatestVCSWkid(0)
Single Fused Map Cache: true
Tile Info:
- Height: 256
- Width: 256
- DPI: 96
-
Levels of Detail: 24
-
Level ID: 1
[ Start Tile, End Tile ]
- Resolution: 78271.5169639999
- Scale: 2.95828763795777E8
-
Level ID: 2
[ Start Tile, End Tile ]
- Resolution: 39135.7584820001
- Scale: 1.47914381897889E8
-
Level ID: 3
[ Start Tile, End Tile ]
- Resolution: 19567.8792409999
- Scale: 7.3957190948944E7
-
Level ID: 4
[ Start Tile, End Tile ]
- Resolution: 9783.93962049996
- Scale: 3.6978595474472E7
-
Level ID: 5
[ Start Tile, End Tile ]
- Resolution: 4891.96981024998
- Scale: 1.8489297737236E7
- Format: Mixed
- Compression Quality: 75.0
- Origin: X: -2.0037508342787E7
Y: 2.0037508342787E7
- Spatial Reference: 102100
(3857)
LatestVCSWkid(0)
Storage Info:
- Storage Format: esriMapCacheStorageModeCompactV2
- Packet Size: 128
Initial Extent:
XMin: -1.4337314150839157E7
YMin: 4776185.612714078
XMax: -1.2524679085098676E7
YMax: 6259370.947528005
Spatial Reference: 102100
(0)
LatestVCSWkid(0)
Full Extent:
XMin: NaN
YMin: NaN
XMax: NaN
YMax: NaN
Spatial Reference: 102100
(0)
LatestVCSWkid(0)
Units: esriMeters
Supported Image Format Types: PNG32,PNG24,PNG,JPG,DIB,TIFF,EMF,PS,PDF,GIF,SVG,SVGZ,BMP
Document Info:
Title: Oregon Hillshade Basemap
Author:
Comments: Tiled Oregon hillshade to be used as basemap in mobile applications. This is for visual topography. The basemap includes the Enhanced 10 meter Hillshade under the 1 meter hillshade from Oregon lidar acquisitons.
Subject: Oregon Hillshade
Category:
Keywords: ODF,Oregon,Oregon Department of Forestry
AntialiasingMode: Fast
TextAntialiasingMode: Force
Supports Dynamic Layers: true
MaxRecordCount: 2000
MaxImageHeight: 4096
MaxImageWidth: 4096
Supported Query Formats: JSON, geoJSON, PBF
Supports Query Data Elements: true
Min Scale: 4622324.434309
Max Scale: 4513.988705
Supports Datum Transformation: true
Child Resources:
Info
Dynamic Layer
Supported Operations:
Export Map
Identify
QueryLegends
QueryDomains
Find
EstimateExportTilesSize
ExportTiles
Return Updates