View In:
ArcGIS JavaScript
ArcGIS Online Map Viewer
ArcGIS Earth
ArcGIS Pro
Service Description: <div style='text-align:Left;font-size:12pt'><div><p><span>The purpose of this map is to assist in wildland fire fighting activities. The data that is displayed is to help locate important features for fire fighting and navigate difficult back country roads and trails. This map contains Lookouts, Summits, Fire Stations, Feature Points, ODF Offices, ODF Communication Sites, Railroad Mileposts, Highway Mileposts, Gates, Water Source, Springs, Electric Transmission Lines, Railroads, Roads, Trails, Streams, Protection Boundaries- Unit and District, USFS District Lines, Structural Fire Protection District, Statewide Waterbodies, Scenic Waterways, Rangeland Protection Associations, Counties, Townships, Sections, Wilderness, Land Management and City Limits .</span></p><p><span /></p><p><span>This map is published as a map service (with hillshade), raster tile package (with hillshade), and vector tile package (without hillshade).</span></p><p><span /></p><p><span /></p></div></div>
Map Name: ProtectionMap
Legend
All Layers and Tables
Dynamic Legend
Dynamic All Layers
Layers:
Description: The purpose of this map is to assist in wildland fire fighting activities. The data that is displayed is to help locate important features for fire fighting and navigate difficult back country roads and trails. This map contains Lookouts, Summits, Fire Stations, Feature Points, ODF Offices, ODF Communication Sites, Railroad Mileposts, Highway Mileposts, Gates, Water Source, Springs, Electric Transmission Lines, Railroads, Roads, Trails, Streams, Protection Boundaries- Unit and District, USFS District Lines, Structural Fire Protection District, Statewide Waterbodies, Scenic Waterways, Rangeland Protection Associations, Counties, Townships, Sections, Wilderness, Land Management and City Limits .This map is published as a map service (with hillshade), raster tile package (with hillshade), and vector tile package (without hillshade).
Service Item Id: 43dcb923fef74001b912326a2a5112c0
Copyright Text: ODF
Spatial Reference:
102100
(3857)
Single Fused Map Cache: true
Tile Info:
- Height: 256.0
- Width: 256.0
- DPI: 96.0
-
Levels of Detail: 24
-
Level ID: 0
[ Start Tile, End Tile ]
- Resolution: 156543.03392799999
- Scale: 591657527.591555
-
Level ID: 1
[ Start Tile, End Tile ]
- Resolution: 78271.516963999893
- Scale: 295828763.79577702
-
Level ID: 2
[ Start Tile, End Tile ]
- Resolution: 39135.758482000099
- Scale: 147914381.89788899
-
Level ID: 3
[ Start Tile, End Tile ]
- Resolution: 19567.879240999901
- Scale: 73957190.948944002
-
Level ID: 4
[ Start Tile, End Tile ]
- Resolution: 9783.9396204999593
- Scale: 36978595.474472001
-
Level ID: 5
[ Start Tile, End Tile ]
- Resolution: 4891.9698102499797
- Scale: 18489297.737236001
-
Level ID: 6
[ Start Tile, End Tile ]
- Resolution: 2445.9849051249898
- Scale: 9244648.8686180003
-
Level ID: 7
[ Start Tile, End Tile ]
- Resolution: 1222.9924525624899
- Scale: 4622324.4343090001
-
Level ID: 8
[ Start Tile, End Tile ]
- Resolution: 611.49622628138002
- Scale: 2311162.2171550002
-
Level ID: 10
[ Start Tile, End Tile ]
- Resolution: 152.874056570411
- Scale: 577790.55428899999
-
Level ID: 11
[ Start Tile, End Tile ]
- Resolution: 76.437028285073197
- Scale: 288895.27714399999
-
Level ID: 13
[ Start Tile, End Tile ]
- Resolution: 19.109257071268299
- Scale: 72223.819285999998
-
Level ID: 14
[ Start Tile, End Tile ]
- Resolution: 9.5546285356341496
- Scale: 36111.909642999999
-
Level ID: 16
[ Start Tile, End Tile ]
- Resolution: 2.38865713397468
- Scale: 9027.9774109999998
-
Level ID: 17
[ Start Tile, End Tile ]
- Resolution: 1.1943285668550501
- Scale: 4513.9887049999998
-
Level ID: 19
[ Start Tile, End Tile ]
- Resolution: 0.29858214164761698
- Scale: 1128.4971760000001
-
Level ID: 20
[ Start Tile, End Tile ]
- Resolution: 0.14929107082380833
- Scale: 564.24858800000004
-
Level ID: 21
[ Start Tile, End Tile ]
- Resolution: 0.074645535411904163
- Scale: 282.12429400000002
-
Level ID: 22
[ Start Tile, End Tile ]
- Resolution: 0.037322767705952081
- Scale: 141.06214700000001
-
Level ID: 23
[ Start Tile, End Tile ]
- Resolution: 0.018661383852976041
- Scale: 70.531073500000005
- Format: Mixed
- Compression Quality: 75.0
- Origin: X: -2.0037508342787E7
Y: 2.0037508342787E7
- Spatial Reference: 102100
(3857)
Storage Info:
- Storage Format: esriMapCacheStorageModeCompactV2
- Packet Size: 128
Initial Extent:
XMin: -1.4299571768615227E7
YMin: 4691087.397225224
XMax: -1.2474867029391985E7
YMax: 6130304.915400769
Spatial Reference: 102100
Full Extent:
XMin: -1.4299571768615227E7
YMin: 4691087.397225224
XMax: -1.2474867029391985E7
YMax: 6130304.915400769
Spatial Reference: 102100
Units: esriMeters
Supported Image Format Types: PNG32,PNG24,PNG,JPG,DIB,TIFF,EMF,PS,PDF,GIF,SVG,SVGZ,BMP
Document Info:
Title: ODF Fire Protection Basemap
Author:
Comments: The purpose of this map is to assist in wildland fire fighting activities. The data that is displayed is to help locate important features for fire fighting and navigate difficult back country roads and trails. This map contains Lookouts, Summits, Fire Stations, Feature Points, ODF Offices, ODF Communication Sites, Railroad Mileposts, Highway Mileposts, Gates, Water Source, Springs, Electric Transmission Lines, Railroads, Roads, Trails, Streams, Protection Boundaries- Unit and District, USFS District Lines, Structural Fire Protection District, Statewide Waterbodies, Scenic Waterways, Rangeland Protection Associations, Counties, Townships, Sections, Wilderness, Land Management and City Limits .This map is published as a map service (with hillshade), raster tile package (with hillshade), and vector tile package (without hillshade).
Subject: ODF Protection Map for Wildland Fire Fighting
Category:
Keywords: ProtectionMap,MapServer
AntialiasingMode: Fast
TextAntialiasingMode: Force
Supports Dynamic Layers: true
MaxRecordCount: 2000
MaxSelectionCount: 2000
MaxImageHeight: 4096
MaxImageWidth: 4096
Supported Query Formats: JSON, geoJSON, PBF
Supports Query Data Elements: true
Min Scale: 4622324.4343090001
Max Scale: 2256.994353
Min LOD: 7
Max LOD: 18
Supports Datum Transformation: true
Child Resources:
Info
Dynamic Layer
Supported Operations:
Export Map
Identify
QueryLegends
QueryDomains
Find
EstimateExportTilesSize
ExportTiles
Return Updates