View In:
ArcGIS JavaScript
ArcGIS Online Map Viewer
ArcGIS Earth
Service Description: Basemaps/SODImagery2017
Name: Basemaps/SODImagery2017
Description:
Single Fused Map Cache: false
Extent:
XMin: 243218.5
YMin: 108790.5
XMax: 348605.5
YMax: 273091.5
Spatial Reference: 2992
(2992)
Initial Extent:
XMin: 243218.5
YMin: 108790.5
XMax: 348605.5
YMax: 273091.5
Spatial Reference: 2992
(2992)
Full Extent:
XMin: 243218.5
YMin: 108790.5
XMax: 348605.5
YMax: 273091.5
Spatial Reference: 2992
(2992)
Pixel Size X: 1.0
Pixel Size Y: 1.0
Band Count: 4
Pixel Type: S32
RasterFunction Infos: {"rasterFunctionInfos": [{
"help": "",
"name": "None",
"description": ""
}]}
Mensuration Capabilities:
Inspection Capabilities:
Has Histograms: false
Has Colormap: false
Has Multi Dimensions : false
Rendering Rule:
Min Scale: 0
Max Scale: 0
Copyright Text:
Service Data Type: esriImageServiceDataTypeGeneric
Min Values: 0, 0, 0, 0
Max Values: 255, 255, 255, 255
Mean Values: 69.251078141055004, 87.675431531697996, 78.560150615856998, 151.33130224127001
Standard Deviation Values: 59.067028768314003, 52.416801759111998, 41.815998867650997, 68.988082459786995
Object ID Field:
Fields:
None
Default Mosaic Method: Northwest
Allowed Mosaic Methods: NorthWest,Center,LockRaster,ByAttribute,Nadir,Viewpoint,Seamline,None
SortField:
SortValue: N/A
Mosaic Operator: First
Default Compression Quality: 75
Default Resampling Method: Bilinear
Max Record Count: 1000
Max Image Height: 4100
Max Image Width: 15000
Max Download Image Count: 20
Max Mosaic Image Count: 20
Allow Raster Function: true
Allow Copy: true
Allow Analysis: true
Allow Compute TiePoints: false
Supports Statistics: false
Supports Advanced Queries: false
Use StandardizedQueries: true
Raster Type Infos:
Name: Raster Dataset
Description: Supports all ArcGIS Raster Datasets
Help:
Has Raster Attribute Table: false
Edit Fields Info: N/A
Ownership Based AccessControl For Rasters: N/A
Child Resources:
Info
Statistics
Key Properties
Legend
Raster Function Infos
Supported Operations:
Export Image
Query
Identify
Compute Histograms
Compute Statistics Histograms
Get Samples
Compute Class Statistics
Query GPS Info
Find Images
Image to Map
Map to Image
Measure from Image
Image to Map Multiray
Query Boundary
Compute Pixel Location
Compute Angles
Validate
Project