View In:
ArcGIS JavaScript
ArcGIS Online Map Viewer
ArcGIS Earth
Service Description: Basemaps/SODImagery2021
Name: Basemaps/SODImagery2021
Description:
Single Fused Map Cache: false
Extent:
XMin: 224539.15570957138
YMin: 97935.18081216858
XMax: 366165.1557095714
YMax: 418229.1808121686
Spatial Reference: 2992
(2992)
Initial Extent:
XMin: 224539.15570957138
YMin: 97935.18081216858
XMax: 366165.1557095714
YMax: 418229.1808121686
Spatial Reference: 2992
(2992)
Full Extent:
XMin: 224539.15570957138
YMin: 97935.18081216858
XMax: 366165.1557095714
YMax: 418229.1808121686
Spatial Reference: 2992
(2992)
Pixel Size X: 1.0
Pixel Size Y: 1.0
Band Count: 4
Pixel Type: S32
RasterFunction Infos: {"rasterFunctionInfos": [{
"help": "",
"name": "None",
"description": ""
}]}
Mensuration Capabilities: Basic
Inspection Capabilities:
Has Histograms: true
Has Colormap: false
Has Multi Dimensions : false
Rendering Rule:
Min Scale: 0
Max Scale: 0
Copyright Text:
Service Data Type: esriImageServiceDataTypeGeneric
Min Values: 0, 0, 0, 0
Max Values: 255, 255, 255, 255
Mean Values: 86.387071965912, 112.51473444190999, 97.781331955997999, 141.43411330546999
Standard Deviation Values: 64.484682558966, 57.036883785219999, 47.480961462608001, 72.589723088284998
Object ID Field:
Fields:
None
Default Mosaic Method: Northwest
Allowed Mosaic Methods: NorthWest,Center,LockRaster,ByAttribute,Nadir,Viewpoint,Seamline,None
SortField:
SortValue: N/A
Mosaic Operator: First
Default Compression Quality: 75
Default Resampling Method: Bilinear
Max Record Count: 1000
Max Image Height: 4100
Max Image Width: 15000
Max Download Image Count: 20
Max Mosaic Image Count: 20
Allow Raster Function: true
Allow Copy: true
Allow Analysis: true
Allow Compute TiePoints: false
Supports Statistics: false
Supports Advanced Queries: false
Use StandardizedQueries: true
Raster Type Infos:
Name: Raster Dataset
Description: Supports all ArcGIS Raster Datasets
Help:
Has Raster Attribute Table: false
Edit Fields Info: N/A
Ownership Based AccessControl For Rasters: N/A
Child Resources:
Info
Histograms
Statistics
Key Properties
Legend
Raster Function Infos
Supported Operations:
Export Image
Query
Identify
Measure
Compute Histograms
Compute Statistics Histograms
Get Samples
Compute Class Statistics
Query GPS Info
Find Images
Image to Map
Map to Image
Measure from Image
Image to Map Multiray
Query Boundary
Compute Pixel Location
Compute Angles
Validate
Project