View In:
ArcGIS JavaScript
ArcGIS Online Map Viewer
ArcGIS Earth
Service Description: LandUseLandCover/LULC_Willamette_Valley_Hardwood
Name: LandUseLandCover/LULC_Willamette_Valley_Hardwood
Description:
Single Fused Map Cache: false
Extent:
XMin: 446420.0
YMin: 4827740.0
XMax: 562620.0
YMax: 5094540.0
Spatial Reference: 32610
(32610)
Initial Extent:
XMin: 446420.0
YMin: 4827740.0
XMax: 562620.0
YMax: 5094540.0
Spatial Reference: 32610
(32610)
Full Extent:
XMin: 446420.0
YMin: 4827740.0
XMax: 562620.0
YMax: 5094540.0
Spatial Reference: 32610
(32610)
Pixel Size X: 20.0
Pixel Size Y: 20.0
Band Count: 1
Pixel Type: U8
RasterFunction Infos: {"rasterFunctionInfos": [
{
"help": "",
"name": "Willamette Hardwoods Symbology",
"description": "Use a table to name and symbolize the values in a dataset. Table identifies Values in the Willamette Valley Hardwoods layer, and classifies them with the symbology developed by the ODF Forest Health Unit, and used in the model results Vector Tile Package."
},
{
"help": "",
"name": "None",
"description": ""
}
]}
Mensuration Capabilities: Basic
Inspection Capabilities:
Has Histograms: true
Has Colormap: false
Has Multi Dimensions : false
Rendering Rule:
Min Scale: 0
Max Scale: 0
Resampling: false
Copyright Text:
Service Data Type: esriImageServiceDataTypeGeneric
Min Values: 1
Max Values: 9
Mean Values: 4.6344308633562603
Standard Deviation Values: 2.4558537511788749
Object ID Field:
Fields:
None
Default Mosaic Method: Center
Allowed Mosaic Methods:
SortField:
SortValue: N/A
Mosaic Operator: First
Default Compression Quality: 75
Default Resampling Method: Nearest
Max Record Count: null
Max Image Height: 100000
Max Image Width: 100000
Max Download Image Count: null
Max Mosaic Image Count: null
Allow Raster Function: true
Allow Copy: true
Allow Analysis: true
Allow Compute TiePoints: false
Supports Statistics: false
Supports Advanced Queries: false
Use StandardizedQueries: false
Raster Type Infos:
Name: Raster Dataset
Description: Supports all ArcGIS Raster Datasets
Help:
Has Raster Attribute Table: true
Edit Fields Info: N/A
Ownership Based AccessControl For Rasters: N/A
Child Resources:
Info
Raster Attribute Table
Histograms
Statistics
Key Properties
Legend
Raster Function Infos
Supported Operations:
Export Image
Identify
Measure
Compute Histograms
Compute Statistics Histograms
Get Samples
Compute Class Statistics
Query Boundary
Compute Pixel Location
Compute Angles
Validate
Project